BEGIN:VCALENDAR
VERSION:2.0
PRODID:-//DIOCESE of DUNKELD - ECPv6.15.17//NONSGML v1.0//EN
CALSCALE:GREGORIAN
METHOD:PUBLISH
X-ORIGINAL-URL:https://www.dunkelddiocese.co.uk
X-WR-CALDESC:Events for DIOCESE of DUNKELD
REFRESH-INTERVAL;VALUE=DURATION:PT1H
X-Robots-Tag:noindex
X-PUBLISHED-TTL:PT1H
BEGIN:VTIMEZONE
TZID:Europe/London
BEGIN:DAYLIGHT
TZOFFSETFROM:+0000
TZOFFSETTO:+0100
TZNAME:BST
DTSTART:20240331T010000
END:DAYLIGHT
BEGIN:STANDARD
TZOFFSETFROM:+0100
TZOFFSETTO:+0000
TZNAME:GMT
DTSTART:20241027T010000
END:STANDARD
BEGIN:DAYLIGHT
TZOFFSETFROM:+0000
TZOFFSETTO:+0100
TZNAME:BST
DTSTART:20250330T010000
END:DAYLIGHT
BEGIN:STANDARD
TZOFFSETFROM:+0100
TZOFFSETTO:+0000
TZNAME:GMT
DTSTART:20251026T010000
END:STANDARD
BEGIN:DAYLIGHT
TZOFFSETFROM:+0000
TZOFFSETTO:+0100
TZNAME:BST
DTSTART:20260329T010000
END:DAYLIGHT
BEGIN:STANDARD
TZOFFSETFROM:+0100
TZOFFSETTO:+0000
TZNAME:GMT
DTSTART:20261025T010000
END:STANDARD
END:VTIMEZONE
BEGIN:VEVENT
DTSTART;TZID=Europe/London:20250727T121500
DTEND;TZID=Europe/London:20250727T133000
DTSTAMP:20260421T150514
CREATED:20250625T152830Z
LAST-MODIFIED:20250625T152830Z
UID:22267-1753618500-1753623000@www.dunkelddiocese.co.uk
SUMMARY:The Margaret Sinclair Story
DESCRIPTION:AGAP Theatre presents “The Margaret Sinclair Story” (marking 100 years since the death of Venerable Margaret Sinclair) Fringe Preview. Sun 27th July at 12.15pm in St Mary’s Church\, Lochee (Upper Hall).  Tickets: £10/£7/£5 (Pay What You Can – you choose.) from www.agap.org.uk/tickets or call 0749 534 7884.
URL:https://www.dunkelddiocese.co.uk/event/the-margaret-sinclair-story/
ATTACH;FMTTYPE=image/png:https://dunkeld.s3.eu-west-2.amazonaws.com/wp-content/uploads/2025/06/25162802/Screenshot-2025-06-25-at-16.27.42.png
END:VEVENT
END:VCALENDAR