BEGIN:VCALENDAR
VERSION:2.0
PRODID:-//DIOCESE of DUNKELD - ECPv6.15.17//NONSGML v1.0//EN
CALSCALE:GREGORIAN
METHOD:PUBLISH
X-WR-CALNAME:DIOCESE of DUNKELD
X-ORIGINAL-URL:https://www.dunkelddiocese.co.uk
X-WR-CALDESC:Events for DIOCESE of DUNKELD
REFRESH-INTERVAL;VALUE=DURATION:PT1H
X-Robots-Tag:noindex
X-PUBLISHED-TTL:PT1H
BEGIN:VTIMEZONE
TZID:Europe/London
BEGIN:DAYLIGHT
TZOFFSETFROM:+0000
TZOFFSETTO:+0100
TZNAME:BST
DTSTART:20250330T010000
END:DAYLIGHT
BEGIN:STANDARD
TZOFFSETFROM:+0100
TZOFFSETTO:+0000
TZNAME:GMT
DTSTART:20251026T010000
END:STANDARD
BEGIN:DAYLIGHT
TZOFFSETFROM:+0000
TZOFFSETTO:+0100
TZNAME:BST
DTSTART:20260329T010000
END:DAYLIGHT
BEGIN:STANDARD
TZOFFSETFROM:+0100
TZOFFSETTO:+0000
TZNAME:GMT
DTSTART:20261025T010000
END:STANDARD
BEGIN:DAYLIGHT
TZOFFSETFROM:+0000
TZOFFSETTO:+0100
TZNAME:BST
DTSTART:20270328T010000
END:DAYLIGHT
BEGIN:STANDARD
TZOFFSETFROM:+0100
TZOFFSETTO:+0000
TZNAME:GMT
DTSTART:20271031T010000
END:STANDARD
END:VTIMEZONE
BEGIN:VEVENT
DTSTART;TZID=Europe/London:20260211T190000
DTEND;TZID=Europe/London:20260211T203000
DTSTAMP:20260420T105118
CREATED:20260202T160054Z
LAST-MODIFIED:20260202T160054Z
UID:23270-1770836400-1770841800@www.dunkelddiocese.co.uk
SUMMARY:Feast of Our Lady of Lourdes
DESCRIPTION:Mass to commemorate the World Day of Prayer for the Sick will be celebrated in St. Mary’s\, Lochee\, Dundee on Wednesday 11th February 2026 at 7.00pm. \nAnnual diocesan pilgrims to this special shrine of Lourdes are invited to the Mass alongside parishioners from all parishes in the Diocese. All are warmly invited to attend the Mass and enjoy refreshments in the church hall afterwards. \nOur Lady Health of the Sick\, pray for us
URL:https://www.dunkelddiocese.co.uk/event/feast-of-our-lady-of-lourdes/
LOCATION:St. Mary’s\, Lochee\, 41 High Street\, Lochee\, Dundee\, DD2 3AP\, United Kingdom
CATEGORIES:Calendar,Lourdes
END:VEVENT
BEGIN:VEVENT
DTSTART;TZID=Europe/London:20260220T130000
DTEND;TZID=Europe/London:20260220T140000
DTSTAMP:20260420T105118
CREATED:20260216T090515Z
LAST-MODIFIED:20260216T090515Z
UID:23315-1771592400-1771596000@www.dunkelddiocese.co.uk
SUMMARY:Mass and Day of Prayer for those who have suffered abuse
DESCRIPTION:Mass will be said at 1pm at St Andrew’s Cathedral\, Dundee\, on Friday 20th February to mark this important day in the calendar of the Catholic Church in Scotland.
URL:https://www.dunkelddiocese.co.uk/event/mass-and-day-of-prayer-for-those-who-have-suffered-abuse/
LOCATION:St Andrew’s Cathedral\, 150 Nethergate\, Dundee\, DD1 4EA
CATEGORIES:Calendar,Mass
ORGANIZER;CN="Diocese of Dunkeld":MAILTO:webmaster@dunkelddioccese.org.uk
END:VEVENT
BEGIN:VEVENT
DTSTART;TZID=Europe/London:20260221T123000
DTEND;TZID=Europe/London:20260221T150000
DTSTAMP:20260420T105118
CREATED:20260202T143135Z
LAST-MODIFIED:20260202T145158Z
UID:23207-1771677000-1771686000@www.dunkelddiocese.co.uk
SUMMARY:SPUC Dundee Branch with Dunkeld Diocese
DESCRIPTION:You are invited to an ‘Afternoon for Life’\nJoin us for informative talks on current beginning and end of life issues. Speakers include Emmet Dooley – SPUC Education and\nOutreach Manager. \nOur Lady of Victories\, Forebank Road (bottom hall). Tea and coffee from 12noon with a chance to catch up with pro-life friends. Children\nwelcome – Toys and craft in the upstairs room. Booking not essential. Please come along for all or part of the afternoon. For further information: mcgraw.clare@gmail.com or 07752527696.
URL:https://www.dunkelddiocese.co.uk/event/spuc-dundee-branch-with-dunkeld-diocese/
LOCATION:Our Lady of Victories\, Forebank Road\, Dundee\, DD1 2BP
CATEGORIES:Calendar
ORGANIZER;CN="SPUC Dundee":MAILTO:mcgraw.clare@gmail.com
END:VEVENT
END:VCALENDAR