BEGIN:VCALENDAR
VERSION:2.0
PRODID:-//DIOCESE of DUNKELD - ECPv6.15.17//NONSGML v1.0//EN
CALSCALE:GREGORIAN
METHOD:PUBLISH
X-WR-CALNAME:DIOCESE of DUNKELD
X-ORIGINAL-URL:https://www.dunkelddiocese.co.uk
X-WR-CALDESC:Events for DIOCESE of DUNKELD
REFRESH-INTERVAL;VALUE=DURATION:PT1H
X-Robots-Tag:noindex
X-PUBLISHED-TTL:PT1H
BEGIN:VTIMEZONE
TZID:Europe/London
BEGIN:DAYLIGHT
TZOFFSETFROM:+0000
TZOFFSETTO:+0100
TZNAME:BST
DTSTART:20250330T010000
END:DAYLIGHT
BEGIN:STANDARD
TZOFFSETFROM:+0100
TZOFFSETTO:+0000
TZNAME:GMT
DTSTART:20251026T010000
END:STANDARD
BEGIN:DAYLIGHT
TZOFFSETFROM:+0000
TZOFFSETTO:+0100
TZNAME:BST
DTSTART:20260329T010000
END:DAYLIGHT
BEGIN:STANDARD
TZOFFSETFROM:+0100
TZOFFSETTO:+0000
TZNAME:GMT
DTSTART:20261025T010000
END:STANDARD
BEGIN:DAYLIGHT
TZOFFSETFROM:+0000
TZOFFSETTO:+0100
TZNAME:BST
DTSTART:20270328T010000
END:DAYLIGHT
BEGIN:STANDARD
TZOFFSETFROM:+0100
TZOFFSETTO:+0000
TZNAME:GMT
DTSTART:20271031T010000
END:STANDARD
END:VTIMEZONE
BEGIN:VEVENT
DTSTART;TZID=Europe/London:20260513T190000
DTEND;TZID=Europe/London:20260513T200000
DTSTAMP:20260420T122637
CREATED:20260420T081126Z
LAST-MODIFIED:20260420T081126Z
UID:23608-1778698800-1778702400@www.dunkelddiocese.co.uk
SUMMARY:St. Mary's 160th Anniversary Mass
DESCRIPTION:St Mary’s 160th Anniversary Mass -(incorporating Thanksgiving for completion of Phase 1 of Restoration) celebrated\nby Bishop Andrew McKenzie. Wednesday 13th May at 7pm. \nSt Mary’s Primary School have generously agreed to join with the parish choir to lead the singing at the 160th\nAnniversary Thanksgiving Mass. Another divine musical experience to come!
URL:https://www.dunkelddiocese.co.uk/event/st-marys-160th-anniversary-mass/
LOCATION:St. Mary’s\, Lochee\, 41 High Street\, Lochee\, Dundee\, DD2 3AP\, United Kingdom
CATEGORIES:Calendar
END:VEVENT
END:VCALENDAR