BEGIN:VCALENDAR
VERSION:2.0
PRODID:-//DIOCESE of DUNKELD - ECPv6.15.17//NONSGML v1.0//EN
CALSCALE:GREGORIAN
METHOD:PUBLISH
X-ORIGINAL-URL:https://www.dunkelddiocese.co.uk
X-WR-CALDESC:Events for DIOCESE of DUNKELD
REFRESH-INTERVAL;VALUE=DURATION:PT1H
X-Robots-Tag:noindex
X-PUBLISHED-TTL:PT1H
BEGIN:VTIMEZONE
TZID:Europe/London
BEGIN:DAYLIGHT
TZOFFSETFROM:+0000
TZOFFSETTO:+0100
TZNAME:BST
DTSTART:20240331T010000
END:DAYLIGHT
BEGIN:STANDARD
TZOFFSETFROM:+0100
TZOFFSETTO:+0000
TZNAME:GMT
DTSTART:20241027T010000
END:STANDARD
BEGIN:DAYLIGHT
TZOFFSETFROM:+0000
TZOFFSETTO:+0100
TZNAME:BST
DTSTART:20250330T010000
END:DAYLIGHT
BEGIN:STANDARD
TZOFFSETFROM:+0100
TZOFFSETTO:+0000
TZNAME:GMT
DTSTART:20251026T010000
END:STANDARD
BEGIN:DAYLIGHT
TZOFFSETFROM:+0000
TZOFFSETTO:+0100
TZNAME:BST
DTSTART:20260329T010000
END:DAYLIGHT
BEGIN:STANDARD
TZOFFSETFROM:+0100
TZOFFSETTO:+0000
TZNAME:GMT
DTSTART:20261025T010000
END:STANDARD
BEGIN:DAYLIGHT
TZOFFSETFROM:+0000
TZOFFSETTO:+0100
TZNAME:BST
DTSTART:20270328T010000
END:DAYLIGHT
BEGIN:STANDARD
TZOFFSETFROM:+0100
TZOFFSETTO:+0000
TZNAME:GMT
DTSTART:20271031T010000
END:STANDARD
END:VTIMEZONE
BEGIN:VEVENT
DTSTART;TZID=Europe/London:20260314T101500
DTEND;TZID=Europe/London:20260314T141500
DTSTAMP:20260420T074710
CREATED:20260302T105409Z
LAST-MODIFIED:20260302T105409Z
UID:23435-1773483300-1773497700@www.dunkelddiocese.co.uk
SUMMARY:Lenten Retreat Experience
DESCRIPTION:On Saturday 14th March\, Canon Kevin offers us the opportunity to delve into the Gospel of St. John with the arresting questi0n\, “Will He come to the festival or not?” \n10.15am start.  Venue: St. Mary’s Forebank Church Hall.  Bring your pack lunch!  We will finish by 2.15pm.
URL:https://www.dunkelddiocese.co.uk/event/lenten-retreat-experience/
LOCATION:St. Mary’s\, Forebank\, 36 Forebank Road\, Dundee\, DD1 2PB\, United Kingdom
CATEGORIES:Calendar
ORGANIZER;CN="Diocese of Dunkeld":MAILTO:webmaster@dunkelddioccese.org.uk
END:VEVENT
BEGIN:VEVENT
DTSTART;VALUE=DATE:20260313
DTEND;VALUE=DATE:20260316
DTSTAMP:20260420T074710
CREATED:20260227T104814Z
LAST-MODIFIED:20260227T104814Z
UID:23406-1773360000-1773619199@www.dunkelddiocese.co.uk
SUMMARY:Discernment Retreat Weekend
DESCRIPTION:Discernment Weekend: Navigating the way forward\nDetails of our weekend: \n\nDate: 13-15 March 2026\nVenue: Conforti House\, Coatbridge Lanarkshire\nSuggested Donation: £295\n\nTake time out with God for reflection\, input and community as we consider how to discern where we are and where we might be invited to next steps. For those facing choices in life\, or wondering if there are changes which would lead to greater growth. \nThis is a fully catered weekend led by a team from the Ignatian Spirituality Centre\, Glasgow. \nPlaces are limited\, so please book early if you are interested. \nPayment Link: https://square.link/u/XtXaYqKK \nQR:  \nBooking form Weekend
URL:https://www.dunkelddiocese.co.uk/event/discernment-retreat-weekend/
LOCATION:Conforti House\, Conforti House\, Coatbridge\, Lanarkshire\, United Kingdom
CATEGORIES:Calendar
END:VEVENT
BEGIN:VEVENT
DTSTART;TZID=Europe/London:20260307T100000
DTEND;TZID=Europe/London:20260307T151500
DTSTAMP:20260420T074710
CREATED:20260202T144411Z
LAST-MODIFIED:20260202T145144Z
UID:23211-1772877600-1772896500@www.dunkelddiocese.co.uk
SUMMARY:Alpha Training Day
DESCRIPTION:Training day led by Mike Roach\, lead for Alpha UK: Alpha in a Catholic Context \nAlpha UK will be delivering an introductory training session at St. James’\, Kinross on Saturday 7th March 2026 (approx. timings 10.00-15.15h). \nThere is the opportunity for every parish to send somebody to attend this session at St. James’. \nPlease let Paul Allaker know by Friday 20th February if you would like to attend: paul.allaker@dunkelddiocese.org.uk
URL:https://www.dunkelddiocese.co.uk/event/alpha-training-day/
LOCATION:St. James’\, Kinross\, 5 High Street\, Kinross\, KY13 8AW\, United Kingdom
CATEGORIES:Calendar
ORGANIZER;CN="Diocese of Dunkeld":MAILTO:webmaster@dunkelddioccese.org.uk
END:VEVENT
BEGIN:VEVENT
DTSTART;TZID=Europe/London:20260221T123000
DTEND;TZID=Europe/London:20260221T150000
DTSTAMP:20260420T074710
CREATED:20260202T143135Z
LAST-MODIFIED:20260202T145158Z
UID:23207-1771677000-1771686000@www.dunkelddiocese.co.uk
SUMMARY:SPUC Dundee Branch with Dunkeld Diocese
DESCRIPTION:You are invited to an ‘Afternoon for Life’\nJoin us for informative talks on current beginning and end of life issues. Speakers include Emmet Dooley – SPUC Education and\nOutreach Manager. \nOur Lady of Victories\, Forebank Road (bottom hall). Tea and coffee from 12noon with a chance to catch up with pro-life friends. Children\nwelcome – Toys and craft in the upstairs room. Booking not essential. Please come along for all or part of the afternoon. For further information: mcgraw.clare@gmail.com or 07752527696.
URL:https://www.dunkelddiocese.co.uk/event/spuc-dundee-branch-with-dunkeld-diocese/
LOCATION:Our Lady of Victories\, Forebank Road\, Dundee\, DD1 2BP
CATEGORIES:Calendar
ORGANIZER;CN="SPUC Dundee":MAILTO:mcgraw.clare@gmail.com
END:VEVENT
BEGIN:VEVENT
DTSTART;TZID=Europe/London:20260220T130000
DTEND;TZID=Europe/London:20260220T140000
DTSTAMP:20260420T074710
CREATED:20260216T090515Z
LAST-MODIFIED:20260216T090515Z
UID:23315-1771592400-1771596000@www.dunkelddiocese.co.uk
SUMMARY:Mass and Day of Prayer for those who have suffered abuse
DESCRIPTION:Mass will be said at 1pm at St Andrew’s Cathedral\, Dundee\, on Friday 20th February to mark this important day in the calendar of the Catholic Church in Scotland.
URL:https://www.dunkelddiocese.co.uk/event/mass-and-day-of-prayer-for-those-who-have-suffered-abuse/
LOCATION:St Andrew’s Cathedral\, 150 Nethergate\, Dundee\, DD1 4EA
CATEGORIES:Calendar,Mass
ORGANIZER;CN="Diocese of Dunkeld":MAILTO:webmaster@dunkelddioccese.org.uk
END:VEVENT
BEGIN:VEVENT
DTSTART;TZID=Europe/London:20260211T190000
DTEND;TZID=Europe/London:20260211T203000
DTSTAMP:20260420T074710
CREATED:20260202T160054Z
LAST-MODIFIED:20260202T160054Z
UID:23270-1770836400-1770841800@www.dunkelddiocese.co.uk
SUMMARY:Feast of Our Lady of Lourdes
DESCRIPTION:Mass to commemorate the World Day of Prayer for the Sick will be celebrated in St. Mary’s\, Lochee\, Dundee on Wednesday 11th February 2026 at 7.00pm. \nAnnual diocesan pilgrims to this special shrine of Lourdes are invited to the Mass alongside parishioners from all parishes in the Diocese. All are warmly invited to attend the Mass and enjoy refreshments in the church hall afterwards. \nOur Lady Health of the Sick\, pray for us
URL:https://www.dunkelddiocese.co.uk/event/feast-of-our-lady-of-lourdes/
LOCATION:St. Mary’s\, Lochee\, 41 High Street\, Lochee\, Dundee\, DD2 3AP\, United Kingdom
CATEGORIES:Calendar,Lourdes
END:VEVENT
BEGIN:VEVENT
DTSTART;TZID=Europe/London:20250629T080000
DTEND;TZID=Europe/London:20250629T170000
DTSTAMP:20260420T074710
CREATED:20250625T161627Z
LAST-MODIFIED:20250625T215252Z
UID:22283-1751184000-1751216400@www.dunkelddiocese.co.uk
SUMMARY:Ss Peter & Paul
DESCRIPTION:The Feast of Saints Peter and Paul is celebrated annually on June 29th. It’s a solemnity\, the highest rank for a liturgical feast in the Catholic Church\, commemorating the martyrdom of these two prominent apostles. While they were very different individuals\, their combined influence on the early Church is recognized by this shared feast day.  \nThe traditional Peter’s Pence collection takes place on this day. It is a concrete way to support the Holy Father in his mission of service to the universal Church. \n Peter’s Pence is a gesture of communion and participation in the Pope’s mission to proclaim the Gospel\, promote peace\, and spread Christian charity. \n To support this initiative\, the Secretariat for the Economy and the Dicastery for Communication of the Holy See have prepared informational and multimedia materials to illustrate its significance.
URL:https://www.dunkelddiocese.co.uk/event/ss-peter-paul/
LOCATION:Morayshire
CATEGORIES:Calendar
ATTACH;FMTTYPE=image/jpeg:https://dunkeld.s3.eu-west-2.amazonaws.com/wp-content/uploads/2020/03/24194728/st-peters-square.jpg
END:VEVENT
END:VCALENDAR