BEGIN:VCALENDAR
VERSION:2.0
PRODID:-//DIOCESE of DUNKELD - ECPv6.15.17//NONSGML v1.0//EN
CALSCALE:GREGORIAN
METHOD:PUBLISH
X-ORIGINAL-URL:https://www.dunkelddiocese.co.uk
X-WR-CALDESC:Events for DIOCESE of DUNKELD
REFRESH-INTERVAL;VALUE=DURATION:PT1H
X-Robots-Tag:noindex
X-PUBLISHED-TTL:PT1H
BEGIN:VTIMEZONE
TZID:Europe/London
BEGIN:DAYLIGHT
TZOFFSETFROM:+0000
TZOFFSETTO:+0100
TZNAME:BST
DTSTART:20250330T010000
END:DAYLIGHT
BEGIN:STANDARD
TZOFFSETFROM:+0100
TZOFFSETTO:+0000
TZNAME:GMT
DTSTART:20251026T010000
END:STANDARD
BEGIN:DAYLIGHT
TZOFFSETFROM:+0000
TZOFFSETTO:+0100
TZNAME:BST
DTSTART:20260329T010000
END:DAYLIGHT
BEGIN:STANDARD
TZOFFSETFROM:+0100
TZOFFSETTO:+0000
TZNAME:GMT
DTSTART:20261025T010000
END:STANDARD
BEGIN:DAYLIGHT
TZOFFSETFROM:+0000
TZOFFSETTO:+0100
TZNAME:BST
DTSTART:20270328T010000
END:DAYLIGHT
BEGIN:STANDARD
TZOFFSETFROM:+0100
TZOFFSETTO:+0000
TZNAME:GMT
DTSTART:20271031T010000
END:STANDARD
END:VTIMEZONE
BEGIN:VEVENT
DTSTART;VALUE=DATE:20260526
DTEND;VALUE=DATE:20260529
DTSTAMP:20260420T060502
CREATED:20260310T090415Z
LAST-MODIFIED:20260310T090415Z
UID:23511-1779753600-1780012799@www.dunkelddiocese.co.uk
SUMMARY:Pluscarden Pentecost Lectures
DESCRIPTION:Prior Simon and the Community of Pluscarden Abbey have pleasure in announcing this year’s Pluscarden Pentecost Lectures which will take place from the afternoon of 26 May until the morning of 28 May. Each year\, since 1994\,  they invite a distinguished theologian to deliver a series of four lectures\, to which all are welcome. There is no charge for attending. The Lectures take place in St Scholastica’s Guesthouse; tea and coffee are provided\, plus lunch on the Wednesday. There is limited accommodation in the Abbey guesthouses\, so early booking is advised. \nPluscarden Pentecost 2026 Lectures Poster
URL:https://www.dunkelddiocese.co.uk/event/pluscarden-pentecost-lectures/
LOCATION:Pluscarden Abbey\, Pluscarden Abbey\, Elgin\, Morayshire\, IV30 8UA\, United Kingdom
CATEGORIES:Calendar
END:VEVENT
BEGIN:VEVENT
DTSTART;TZID=Europe/London:20260606T090000
DTEND;TZID=Europe/London:20260606T160000
DTSTAMP:20260420T060502
CREATED:20260223T080552Z
LAST-MODIFIED:20260220T153356Z
UID:23335-1780736400-1780761600@www.dunkelddiocese.co.uk
SUMMARY:Festival of Synodality
DESCRIPTION:We invite YOU to the National Festival of Synodality at Glasgow Caledonian University\, a day inspired by Pope Francis’ call to be “witnesses to synodality.” The Festival will focus on Conversation in the Spirit\, a simple and powerful way of communal discernment rooted in listening\, conversion and mission. \nThe day will celebrate the fruits already flourishing in the Church in Scotland and include input from Bishop Alan McGuckian SJ\, Fr David McCallum SJ and Sandra Chaoul. Participants will also have the opportunity to experience Conversation in the Spirit firsthand. Lunch is included. \nAll are welcome\, especially those involved in parish and diocesan life\, pastoral councils\, schools and faith organisations. \nTickets: £65. Parishes and dioceses are encouraged to support those wishing to attend. \nTickets available: bit.ly/synodality26
URL:https://www.dunkelddiocese.co.uk/event/festival-of-synodality/
LOCATION:Glasgow Caledonian University\, Cowcaddens Road\, Glasgow\, G4 0BA\, United Kingdom
CATEGORIES:Calendar
ORGANIZER;CN="Bishop's Conference of Scotland":MAILTO:gensec@bcos.org.uk
END:VEVENT
END:VCALENDAR