BEGIN:VCALENDAR
VERSION:2.0
PRODID:-//DIOCESE of DUNKELD - ECPv6.15.17//NONSGML v1.0//EN
CALSCALE:GREGORIAN
METHOD:PUBLISH
X-WR-CALNAME:DIOCESE of DUNKELD
X-ORIGINAL-URL:https://www.dunkelddiocese.co.uk
X-WR-CALDESC:Events for DIOCESE of DUNKELD
REFRESH-INTERVAL;VALUE=DURATION:PT1H
X-Robots-Tag:noindex
X-PUBLISHED-TTL:PT1H
BEGIN:VTIMEZONE
TZID:Europe/London
BEGIN:DAYLIGHT
TZOFFSETFROM:+0000
TZOFFSETTO:+0100
TZNAME:BST
DTSTART:20240331T010000
END:DAYLIGHT
BEGIN:STANDARD
TZOFFSETFROM:+0100
TZOFFSETTO:+0000
TZNAME:GMT
DTSTART:20241027T010000
END:STANDARD
BEGIN:DAYLIGHT
TZOFFSETFROM:+0000
TZOFFSETTO:+0100
TZNAME:BST
DTSTART:20250330T010000
END:DAYLIGHT
BEGIN:STANDARD
TZOFFSETFROM:+0100
TZOFFSETTO:+0000
TZNAME:GMT
DTSTART:20251026T010000
END:STANDARD
BEGIN:DAYLIGHT
TZOFFSETFROM:+0000
TZOFFSETTO:+0100
TZNAME:BST
DTSTART:20260329T010000
END:DAYLIGHT
BEGIN:STANDARD
TZOFFSETFROM:+0100
TZOFFSETTO:+0000
TZNAME:GMT
DTSTART:20261025T010000
END:STANDARD
END:VTIMEZONE
BEGIN:VEVENT
DTSTART;TZID=Europe/London:20250829T180000
DTEND;TZID=Europe/London:20250829T200000
DTSTAMP:20260421T042630
CREATED:20250820T202913Z
LAST-MODIFIED:20250820T203117Z
UID:22496-1756490400-1756497600@www.dunkelddiocese.co.uk
SUMMARY:A Portrait Purloined - Blairgowrie
DESCRIPTION:-This Summer’s parish concert in the Parish Hall is scheduled for Friday 29th August. 6.00pm \nPlease join us in St. Stephen’s upper hall at 6pm for the one and only performance of ‘A Portrait Purloined’. This mystery comedy set in 1930s Blairgowrie was created by parishioners of all ages and showcases the talents of the youth of the parish.  \nWe’re looking forward to seeing you there for some seriously light-hearted entertainment! \nPlease bring BYOB and your friends and have a truly lovely evening.
URL:https://www.dunkelddiocese.co.uk/event/a-portrait-purloined-blairgowrie/
LOCATION:St Stephen’s RC Church\, John Street\, Blairgowrie\, PH10 6DE\, United Kingdom
CATEGORIES:Concert
ATTACH;FMTTYPE=image/jpeg:https://dunkeld.s3.eu-west-2.amazonaws.com/wp-content/uploads/2025/08/20212835/WhatsApp-Image-2025-08-20-at-20.45.01.jpeg
END:VEVENT
END:VCALENDAR