BEGIN:VCALENDAR
VERSION:2.0
PRODID:-//DIOCESE of DUNKELD - ECPv6.15.17//NONSGML v1.0//EN
CALSCALE:GREGORIAN
METHOD:PUBLISH
X-ORIGINAL-URL:https://www.dunkelddiocese.co.uk
X-WR-CALDESC:Events for DIOCESE of DUNKELD
REFRESH-INTERVAL;VALUE=DURATION:PT1H
X-Robots-Tag:noindex
X-PUBLISHED-TTL:PT1H
BEGIN:VTIMEZONE
TZID:Europe/London
BEGIN:DAYLIGHT
TZOFFSETFROM:+0000
TZOFFSETTO:+0100
TZNAME:BST
DTSTART:20240331T010000
END:DAYLIGHT
BEGIN:STANDARD
TZOFFSETFROM:+0100
TZOFFSETTO:+0000
TZNAME:GMT
DTSTART:20241027T010000
END:STANDARD
BEGIN:DAYLIGHT
TZOFFSETFROM:+0000
TZOFFSETTO:+0100
TZNAME:BST
DTSTART:20250330T010000
END:DAYLIGHT
BEGIN:STANDARD
TZOFFSETFROM:+0100
TZOFFSETTO:+0000
TZNAME:GMT
DTSTART:20251026T010000
END:STANDARD
BEGIN:DAYLIGHT
TZOFFSETFROM:+0000
TZOFFSETTO:+0100
TZNAME:BST
DTSTART:20260329T010000
END:DAYLIGHT
BEGIN:STANDARD
TZOFFSETFROM:+0100
TZOFFSETTO:+0000
TZNAME:GMT
DTSTART:20261025T010000
END:STANDARD
BEGIN:DAYLIGHT
TZOFFSETFROM:+0000
TZOFFSETTO:+0100
TZNAME:BST
DTSTART:20270328T010000
END:DAYLIGHT
BEGIN:STANDARD
TZOFFSETFROM:+0100
TZOFFSETTO:+0000
TZNAME:GMT
DTSTART:20271031T010000
END:STANDARD
END:VTIMEZONE
BEGIN:VEVENT
DTSTART;TZID=Europe/London:20260215T190000
DTEND;TZID=Europe/London:20260215T200000
DTSTAMP:20260420T180821
CREATED:20260202T142255Z
LAST-MODIFIED:20260202T145211Z
UID:23205-1771182000-1771185600@www.dunkelddiocese.co.uk
SUMMARY:Vocations Evening (Over 18s)
DESCRIPTION:Do you sense a call to serve God and His people in the Priesthood?\nIf so\, come along to the Vocations Evening (for over 18s) in St. Andrew’s Cathedral\, Church Hall. \nFor more information\, please contact Fr Jim on stmaryslochee@dunkelddiocese.org.uk or 01382 611 282.
URL:https://www.dunkelddiocese.co.uk/event/vocations-evening-over-18s/
LOCATION:St. Andrew’s Cathedral\, Church Hall\, St. Andrew's RC Cathedral\, Dundee\, DD1 4EA\, United Kingdom
CATEGORIES:Diocesan Event
ORGANIZER;CN="Diocese of Dunkeld":MAILTO:webmaster@dunkelddioccese.org.uk
END:VEVENT
BEGIN:VEVENT
DTSTART;TZID=Europe/London:20260208T190000
DTEND;TZID=Europe/London:20260208T200000
DTSTAMP:20260420T180821
CREATED:20260202T142038Z
LAST-MODIFIED:20260202T145223Z
UID:23202-1770577200-1770580800@www.dunkelddiocese.co.uk
SUMMARY:Vocations Evening (Under 18s)
DESCRIPTION:Do you sense a call to serve God and His people in the Priesthood?\nIf so\, come along to the Vocations Evening (for under 18s) in St. Andrew’s Cathedral\, Church Hall. \nFor more information\, please contact Fr Jim on stmaryslochee@dunkelddiocese.org.uk or 01382 611 282.
URL:https://www.dunkelddiocese.co.uk/event/vocations-evening-under-18s/
LOCATION:St. Andrew’s Cathedral\, Church Hall\, St. Andrew's RC Cathedral\, Dundee\, DD1 4EA\, United Kingdom
CATEGORIES:Diocesan Event
ORGANIZER;CN="Diocese of Dunkeld":MAILTO:webmaster@dunkelddioccese.org.uk
END:VEVENT
BEGIN:VEVENT
DTSTART;TZID=Europe/London:20251115T100000
DTEND;TZID=Europe/London:20251115T130000
DTSTAMP:20260420T180821
CREATED:20251011T182524Z
LAST-MODIFIED:20251011T202412Z
UID:22853-1763200800-1763211600@www.dunkelddiocese.co.uk
SUMMARY:Day of Formation for Extra-Ordinary Ministers of the Eucharist
DESCRIPTION:Extraordinary Ministers of Holy Communion: The Adult Formation Office of the diocese is inviting all extraordinary ministers of the Eucharist to a day of Formation and Celebration in Perth on November 15. It will commence at 10am and end at 1pm. Please update your diary. \nFor all the Extraordinary Ministers of Holy Communion in our Diocese of Dunkeld\, there will be an opportunity to take part in one of two events of Formation and Celebration in the near future; you are warmly invited to come along and share in one of them\, to relect afresh on the ministry you undertake in our parishes.\nThe first will take place at the Diocese of Dunkeld Pastoral Centre\, St Mary’s Church Hall and Church\, Forebank Road\, Dundee on Saturday 8 November 2025 from 10am until 1pm (primarily for Extraordinary Ministers of Holy Communion in the Dundee\, Fife and Angus Parishes) and the same event of Formation and Celebration will be repeated on Saturday 15 November in the Church Hall and Church at St John’s\, Perth (primarily for those in the Perth and Kinross areas and Clackmannanshire).  \nThe programme will be as follows:  \n10am Welcome\, Gathering Hymn and Prayer.\n10.10am Input: Taste and see the goodness of the Lord …………The liturgical experience as food for the journey.\n10.45am: break for tea\, coffee and cake\n11am: Spiritual conversation\, guidelines\, practicalities and questions.\n12noon: Celebration of the Eucharist with commissioning of new Extraordinary Ministers.\n1pm: Depart. \nCan you please indicate your intention to be present either on 8 November in Dundee or 15 November in Perth\, by emailing the Bishop’s PA\, Mr Paul McFadyen\, at  oficeadmin@dunkelddiocese.org.uk  or by calling the ofice on 01382 255453\, or by returning the form (issued from Parish Priest) to myself (Canon Kevin  Golden) at St Andrew’s Cathedral\, 150 Nethergate\, Dundee DD1 4EA
URL:https://www.dunkelddiocese.co.uk/event/day-of-formation-for-extra-ordinary-ministers-of-the-eucharist/
CATEGORIES:Diocesan Event
ATTACH;FMTTYPE=image/jpeg:https://dunkeld.s3.eu-west-2.amazonaws.com/wp-content/uploads/2025/10/11192504/eucharist.jpg
END:VEVENT
BEGIN:VEVENT
DTSTART;TZID=Europe/London:20250922T180000
DTEND;TZID=Europe/London:20250922T191500
DTSTAMP:20260420T180822
CREATED:20250625T153756Z
LAST-MODIFIED:20250625T154253Z
UID:22272-1758564000-1758568500@www.dunkelddiocese.co.uk
SUMMARY:Vocations Mass
DESCRIPTION:Dunkeld’s Annual Vocations Mass is planned for Monday 22nd September at 6pm in the St Andrew’s Cathedral. \n  \nFor more details please contact Fr Jim Walls\, Dunkeld’s Vocations Director – stmaryslochee@dunkelddiocese.org.uk
URL:https://www.dunkelddiocese.co.uk/event/vocations-mass/
LOCATION:St Andrew’s Cathedral\, 150 Nethergate\, Dundee\, DD1 4EA
CATEGORIES:Diocesan Event
ATTACH;FMTTYPE=image/png:https://dunkeld.s3.eu-west-2.amazonaws.com/wp-content/uploads/2025/06/25163744/Screenshot-2025-06-25-at-16.36.52.png
ORGANIZER;CN="Diocese of Dunkeld":MAILTO:webmaster@dunkelddioccese.org.uk
END:VEVENT
BEGIN:VEVENT
DTSTART;VALUE=DATE:20250707
DTEND;VALUE=DATE:20250715
DTSTAMP:20260420T180822
CREATED:20250625T154755Z
LAST-MODIFIED:20250625T154922Z
UID:22278-1751846400-1752537599@www.dunkelddiocese.co.uk
SUMMARY:Diocesan Pilgrimage to Lourdes
DESCRIPTION:The Dunkeld Diocesan Pilgrimage to Lourdes will take place from 7th July to 14th July 2025. \nThe Dunkeld Diocesan Pilgrimage to Lourdes is a fully escorted tour\, including direct return flights from Glasgow Prestwick to Lourdes\, hotel accommodation at the Sanctuary\, meals\, full assistance from the Joe Walsh Tours guides and representatives and a detailed religious programme organised by Joe Walsh Tours in conjunction with the Diocese of Dunkeld.
URL:https://www.dunkelddiocese.co.uk/event/diocesan-pilgrimage-to-lourdes/
CATEGORIES:Diocesan Event
ATTACH;FMTTYPE=image/jpeg:https://dunkeld.s3.eu-west-2.amazonaws.com/wp-content/uploads/2024/02/13144300/lourdes-mass-2024-Edit.jpg
ORGANIZER;CN="Diocese of Dunkeld":MAILTO:webmaster@dunkelddioccese.org.uk
END:VEVENT
END:VCALENDAR