BEGIN:VCALENDAR
VERSION:2.0
PRODID:-//DIOCESE of DUNKELD - ECPv6.15.17//NONSGML v1.0//EN
CALSCALE:GREGORIAN
METHOD:PUBLISH
X-WR-CALNAME:DIOCESE of DUNKELD
X-ORIGINAL-URL:https://www.dunkelddiocese.co.uk
X-WR-CALDESC:Events for DIOCESE of DUNKELD
REFRESH-INTERVAL;VALUE=DURATION:PT1H
X-Robots-Tag:noindex
X-PUBLISHED-TTL:PT1H
BEGIN:VTIMEZONE
TZID:Europe/London
BEGIN:DAYLIGHT
TZOFFSETFROM:+0000
TZOFFSETTO:+0100
TZNAME:BST
DTSTART:20240331T010000
END:DAYLIGHT
BEGIN:STANDARD
TZOFFSETFROM:+0100
TZOFFSETTO:+0000
TZNAME:GMT
DTSTART:20241027T010000
END:STANDARD
BEGIN:DAYLIGHT
TZOFFSETFROM:+0000
TZOFFSETTO:+0100
TZNAME:BST
DTSTART:20250330T010000
END:DAYLIGHT
BEGIN:STANDARD
TZOFFSETFROM:+0100
TZOFFSETTO:+0000
TZNAME:GMT
DTSTART:20251026T010000
END:STANDARD
BEGIN:DAYLIGHT
TZOFFSETFROM:+0000
TZOFFSETTO:+0100
TZNAME:BST
DTSTART:20260329T010000
END:DAYLIGHT
BEGIN:STANDARD
TZOFFSETFROM:+0100
TZOFFSETTO:+0000
TZNAME:GMT
DTSTART:20261025T010000
END:STANDARD
END:VTIMEZONE
BEGIN:VEVENT
DTSTART;VALUE=DATE:20250815
DTEND;VALUE=DATE:20250816
DTSTAMP:20260421T143233
CREATED:20250817T122304Z
LAST-MODIFIED:20250817T141303Z
UID:22458-1755216000-1755302399@www.dunkelddiocese.co.uk
SUMMARY:The Assumption of the Blessed Virgin Mary
DESCRIPTION:The Feast of the Assumption\, celebrated on August 15th\, is a major feast day in the Catholic Church\, commemorating the belief that the Virgin Mary\, the mother of Jesus\, was taken body and soul into Heaven at the end of her earthly life. It’s a solemnity\, the highest rank of liturgical feast\, and a Holy Day of Obligation for Catholics.
URL:https://www.dunkelddiocese.co.uk/event/the-assumption-of-the-blessed-virgin-mary/
CATEGORIES:Holy Day of Obligation
ATTACH;FMTTYPE=image/jpeg:https://dunkeld.s3.eu-west-2.amazonaws.com/wp-content/uploads/2020/05/10194232/our-lady-of-fatima.jpg
END:VEVENT
END:VCALENDAR