BEGIN:VCALENDAR
VERSION:2.0
PRODID:-//DIOCESE of DUNKELD - ECPv6.15.17//NONSGML v1.0//EN
CALSCALE:GREGORIAN
METHOD:PUBLISH
X-ORIGINAL-URL:https://www.dunkelddiocese.co.uk
X-WR-CALDESC:Events for DIOCESE of DUNKELD
REFRESH-INTERVAL;VALUE=DURATION:PT1H
X-Robots-Tag:noindex
X-PUBLISHED-TTL:PT1H
BEGIN:VTIMEZONE
TZID:Europe/London
BEGIN:DAYLIGHT
TZOFFSETFROM:+0000
TZOFFSETTO:+0100
TZNAME:BST
DTSTART:20250330T010000
END:DAYLIGHT
BEGIN:STANDARD
TZOFFSETFROM:+0100
TZOFFSETTO:+0000
TZNAME:GMT
DTSTART:20251026T010000
END:STANDARD
BEGIN:DAYLIGHT
TZOFFSETFROM:+0000
TZOFFSETTO:+0100
TZNAME:BST
DTSTART:20260329T010000
END:DAYLIGHT
BEGIN:STANDARD
TZOFFSETFROM:+0100
TZOFFSETTO:+0000
TZNAME:GMT
DTSTART:20261025T010000
END:STANDARD
BEGIN:DAYLIGHT
TZOFFSETFROM:+0000
TZOFFSETTO:+0100
TZNAME:BST
DTSTART:20270328T010000
END:DAYLIGHT
BEGIN:STANDARD
TZOFFSETFROM:+0100
TZOFFSETTO:+0000
TZNAME:GMT
DTSTART:20271031T010000
END:STANDARD
END:VTIMEZONE
BEGIN:VEVENT
DTSTART;VALUE=DATE:20260715
DTEND;VALUE=DATE:20260723
DTSTAMP:20260420T210230
CREATED:20260202T145047Z
LAST-MODIFIED:20260202T145047Z
UID:23214-1784073600-1784764799@www.dunkelddiocese.co.uk
SUMMARY:Dunkeld Lourdes Pilgrimage
DESCRIPTION:Diocesan Pilgrimage to Lourdes\, led by Bishop Andrew\n15th – 22nd July 2026\nDirect flights and transfers\, full board and a Diocesan programme are included from £969. \nThere is also plenty of free time to allow you to enjoy the pilgrimage. Further details and booking can be\nfound here: \n\nDunkeld Diocesan Pilgrimage to Lourdes \n\nIf you require a little extra support there are also places in the Accuiel with an army of volunteers. Please email\ndunkeld@pobox.com or phone 07801 227 443 for more information.
URL:https://www.dunkelddiocese.co.uk/event/dunkeld-lourdes-pilgrimage/
LOCATION:Lourdes\, France
CATEGORIES:Diocesan Event,Lourdes,Pilgrimage
ORGANIZER;CN="Diocese of Dunkeld":MAILTO:webmaster@dunkelddioccese.org.uk
END:VEVENT
END:VCALENDAR