BEGIN:VCALENDAR
VERSION:2.0
PRODID:-//DIOCESE of DUNKELD - ECPv6.15.17//NONSGML v1.0//EN
CALSCALE:GREGORIAN
METHOD:PUBLISH
X-WR-CALNAME:DIOCESE of DUNKELD
X-ORIGINAL-URL:https://www.dunkelddiocese.co.uk
X-WR-CALDESC:Events for DIOCESE of DUNKELD
REFRESH-INTERVAL;VALUE=DURATION:PT1H
X-Robots-Tag:noindex
X-PUBLISHED-TTL:PT1H
BEGIN:VTIMEZONE
TZID:Europe/London
BEGIN:DAYLIGHT
TZOFFSETFROM:+0000
TZOFFSETTO:+0100
TZNAME:BST
DTSTART:20240331T010000
END:DAYLIGHT
BEGIN:STANDARD
TZOFFSETFROM:+0100
TZOFFSETTO:+0000
TZNAME:GMT
DTSTART:20241027T010000
END:STANDARD
BEGIN:DAYLIGHT
TZOFFSETFROM:+0000
TZOFFSETTO:+0100
TZNAME:BST
DTSTART:20250330T010000
END:DAYLIGHT
BEGIN:STANDARD
TZOFFSETFROM:+0100
TZOFFSETTO:+0000
TZNAME:GMT
DTSTART:20251026T010000
END:STANDARD
BEGIN:DAYLIGHT
TZOFFSETFROM:+0000
TZOFFSETTO:+0100
TZNAME:BST
DTSTART:20260329T010000
END:DAYLIGHT
BEGIN:STANDARD
TZOFFSETFROM:+0100
TZOFFSETTO:+0000
TZNAME:GMT
DTSTART:20261025T010000
END:STANDARD
END:VTIMEZONE
BEGIN:VEVENT
DTSTART;TZID=Europe/London:20250921T123000
DTEND;TZID=Europe/London:20250921T180000
DTSTAMP:20260422T233637
CREATED:20250714T191624Z
LAST-MODIFIED:20250714T192156Z
UID:22340-1758457800-1758477600@www.dunkelddiocese.co.uk
SUMMARY:Centenary Pilgrimage Prays for Venerable Margaret Sinclair
DESCRIPTION:The 2025 Centenary Pilgrimage to pray for the Beatification of the Venerable Margaret Sinclair will take place on Sunday 21 September from 12.30-6pm at St Patrick’s Church\, Cowgate\, Edinburgh\, EH1 1NA. \n12.30pm-1.30pm: Refreshments & sale of candles/goods;\n1.30pm-2.30pm: Holy Hour (Exposition\, Rosary\, Benediction\, Confessions);\n3pm-4pm: Reflection on the Venerable Margaret Sinclair given by Fr Joe McAuley\, Vice-Postulator with prayers\, petitions & blessings with the relic\n4.30pm: Holy Mass (Sung) Principal Celebrant: Archbishop Leo Cushley\, Homilist: Fr Jamie McMorrin. \nConfessions are available all day.
URL:https://www.dunkelddiocese.co.uk/event/centenary-pilgrimage-prays-for-venerable-margaret-sinclair/
LOCATION:St Patrick’s Church\, Cowgate\, Edinburgh\, EH1 1NA
CATEGORIES:Pilgrimage
ATTACH;FMTTYPE=image/jpeg:https://dunkeld.s3.eu-west-2.amazonaws.com/wp-content/uploads/2025/07/14201442/MS2023-21-1024x745-1.jpg
END:VEVENT
END:VCALENDAR